BEGIN:VCALENDAR
VERSION:2.0
PRODID:-//steinhaus1718.de - ECPv6.15.20//NONSGML v1.0//EN
CALSCALE:GREGORIAN
METHOD:PUBLISH
X-WR-CALNAME:steinhaus1718.de
X-ORIGINAL-URL:https://steinhaus1718.de
X-WR-CALDESC:Veranstaltungen für steinhaus1718.de
REFRESH-INTERVAL;VALUE=DURATION:PT1H
X-Robots-Tag:noindex
X-PUBLISHED-TTL:PT1H
BEGIN:VTIMEZONE
TZID:Europe/Berlin
BEGIN:DAYLIGHT
TZOFFSETFROM:+0100
TZOFFSETTO:+0200
TZNAME:CEST
DTSTART:20220327T010000
END:DAYLIGHT
BEGIN:STANDARD
TZOFFSETFROM:+0200
TZOFFSETTO:+0100
TZNAME:CET
DTSTART:20221030T010000
END:STANDARD
BEGIN:DAYLIGHT
TZOFFSETFROM:+0100
TZOFFSETTO:+0200
TZNAME:CEST
DTSTART:20230326T010000
END:DAYLIGHT
BEGIN:STANDARD
TZOFFSETFROM:+0200
TZOFFSETTO:+0100
TZNAME:CET
DTSTART:20231029T010000
END:STANDARD
BEGIN:DAYLIGHT
TZOFFSETFROM:+0100
TZOFFSETTO:+0200
TZNAME:CEST
DTSTART:20240331T010000
END:DAYLIGHT
BEGIN:STANDARD
TZOFFSETFROM:+0200
TZOFFSETTO:+0100
TZNAME:CET
DTSTART:20241027T010000
END:STANDARD
END:VTIMEZONE
BEGIN:VEVENT
DTSTART;TZID=Europe/Berlin:20230517T170000
DTEND;TZID=Europe/Berlin:20230517T220000
DTSTAMP:20260420T131514
CREATED:20230510T143518Z
LAST-MODIFIED:20230510T143518Z
UID:1068-1684342800-1684360800@steinhaus1718.de
SUMMARY:Langer Aperitif
DESCRIPTION:Der „Lange Aperitif“ bietet den Gästen einen Einblick in die vegane Küche und Bar. Kleine Häppchen in ein 7-Gang-Menü verpackt . Ein perfektes Erlebnis für Freunde und Familie. Um mehr zu erfahren folge uns auf Instagram @steinhaus1718.
URL:https://steinhaus1718.de/event/langer-aperitif/
END:VEVENT
END:VCALENDAR